BEGIN:VCALENDAR
VERSION:2.0
PRODID:-//Our Lady of Calvary Retreat - ECPv6.15.14//NONSGML v1.0//EN
CALSCALE:GREGORIAN
METHOD:PUBLISH
X-ORIGINAL-URL:https://www.ourladyofcalvary.net
X-WR-CALDESC:Events for Our Lady of Calvary Retreat
REFRESH-INTERVAL;VALUE=DURATION:PT1H
X-Robots-Tag:noindex
X-PUBLISHED-TTL:PT1H
BEGIN:VTIMEZONE
TZID:America/New_York
BEGIN:DAYLIGHT
TZOFFSETFROM:-0500
TZOFFSETTO:-0400
TZNAME:EDT
DTSTART:20240310T070000
END:DAYLIGHT
BEGIN:STANDARD
TZOFFSETFROM:-0400
TZOFFSETTO:-0500
TZNAME:EST
DTSTART:20241103T060000
END:STANDARD
BEGIN:DAYLIGHT
TZOFFSETFROM:-0500
TZOFFSETTO:-0400
TZNAME:EDT
DTSTART:20250309T070000
END:DAYLIGHT
BEGIN:STANDARD
TZOFFSETFROM:-0400
TZOFFSETTO:-0500
TZNAME:EST
DTSTART:20251102T060000
END:STANDARD
BEGIN:DAYLIGHT
TZOFFSETFROM:-0500
TZOFFSETTO:-0400
TZNAME:EDT
DTSTART:20260308T070000
END:DAYLIGHT
BEGIN:STANDARD
TZOFFSETFROM:-0400
TZOFFSETTO:-0500
TZNAME:EST
DTSTART:20261101T060000
END:STANDARD
END:VTIMEZONE
BEGIN:VEVENT
DTSTART;TZID=America/New_York:20250425T190000
DTEND;TZID=America/New_York:20250427T120000
DTSTAMP:20260419T183635
CREATED:20250306T160131Z
LAST-MODIFIED:20250306T160439Z
UID:10000640-1745607600-1745755200@www.ourladyofcalvary.net
SUMMARY:Women's Retreat
DESCRIPTION:As poet and author John O’Donohue has written\, “Friendship is the nature of God.” Indeed\, God desires our friendship and our ability to live life to the fullest. So\, it is no surprise that friendships are at the very heart of our happiness and joy\, and our friendships and relationships\, as vessels of love\, have the capacity to bring us into deeper communion with God\, ourselves\, and all of creation. \nCome away and be refreshed and renewed in God’s unconditional love and friendship. Experience more deeply that you are God’s beloved one in whom God delights and rejoices. (Isaiah 62: 4). Reclaiming your beloved identity within the spark of divine love\, draws you into deepest conversations with God\, and enables you to share this divine love in every aspect of your life. \nClick here to view the retreat schedule. \nRegistration and Offering for Women’s Retreat\nIn the interest of safety\, we are instituting contactless payments. The offering must be paid in full before arrival. No payments at check-in\, please. \nDeposits may be transferred to another retreat or program within the same retreat season but cannot be transferred to another person. If you have registered and need to cancel or arrange a late arrival\, please call us 24 hours in advance. Otherwise\, all funds paid are non-refundable. \nPartial financial aid may be available for those who cannot afford the minimum fee. Financial aid requests should be submitted in writing to our Administrator and accompanied by a completed registration form. \nPlease use the form below to register or call (860) 677-8519 on Tuesdays or Thursdays during business hours.
URL:https://www.ourladyofcalvary.net/event/womens-retreat-3/2025-04-25/
LOCATION:Our Lady of Calvary Retreat Center\, 31 Colton Street\, Farmington\, CT\, 06032\, United States
CATEGORIES:Weekend Retreat,Women's Retreat
ATTACH;FMTTYPE=image/jpeg:https://www.ourladyofcalvary.net/wp-content/uploads/2024/07/I-Have-3.jpg
GEO:41.716766;-72.82871
X-APPLE-STRUCTURED-LOCATION;VALUE=URI;X-ADDRESS=Our Lady of Calvary Retreat Center 31 Colton Street Farmington CT 06032 United States;X-APPLE-RADIUS=500;X-TITLE=31 Colton Street:geo:-72.82871,41.716766
END:VEVENT
BEGIN:VEVENT
DTSTART;TZID=America/New_York:20250426T090000
DTEND;TZID=America/New_York:20250426T133000
DTSTAMP:20260419T183635
CREATED:20250108T163246Z
LAST-MODIFIED:20250115T185008Z
UID:10000509-1745658000-1745674200@www.ourladyofcalvary.net
SUMMARY:Quilling Workshop with Sister Mary Cam
DESCRIPTION:Quilling is an art form that uses strips of paper\, which are rolled\, shaped\, and glued together to create decorative designs. It’s surprisingly easy to learn\, and once you grasp the basics\, you’ll be well on your way to enjoying the world of quilling. \nJoin Sister Mary Cam for a fun and creative morning at OLC\, and leave with the skills to pursue one of the easiest and most affordable crafts for beginners. \nThis program will take place upstairs in the Blue Room and is limited to 15 participants. No experience is required\, and all materials will be provided. Lunch is included. \nSister Mary Cam\, CP\, is a member of the OLC Retreat Team and comes to us from Vietnam. \nRegister using the form below or call (860) 677-8519 \n;
URL:https://www.ourladyofcalvary.net/event/quilling-workshop-with-sister-mary-cam/
LOCATION:Our Lady of Calvary Retreat Center\, 31 Colton Street\, Farmington\, CT\, 06032\, United States
CATEGORIES:Day/Evening Program,Saturday Blue Room
ATTACH;FMTTYPE=image/jpeg:https://www.ourladyofcalvary.net/wp-content/uploads/2025/01/Quilling-With-Sister-Mary-Cam.jpg
GEO:41.716766;-72.82871
X-APPLE-STRUCTURED-LOCATION;VALUE=URI;X-ADDRESS=Our Lady of Calvary Retreat Center 31 Colton Street Farmington CT 06032 United States;X-APPLE-RADIUS=500;X-TITLE=31 Colton Street:geo:-72.82871,41.716766
END:VEVENT
END:VCALENDAR