BEGIN:VCALENDAR
VERSION:2.0
PRODID:-//Our Lady of Calvary Retreat - ECPv6.15.14//NONSGML v1.0//EN
CALSCALE:GREGORIAN
METHOD:PUBLISH
X-ORIGINAL-URL:https://www.ourladyofcalvary.net
X-WR-CALDESC:Events for Our Lady of Calvary Retreat
REFRESH-INTERVAL;VALUE=DURATION:PT1H
X-Robots-Tag:noindex
X-PUBLISHED-TTL:PT1H
BEGIN:VTIMEZONE
TZID:America/New_York
BEGIN:DAYLIGHT
TZOFFSETFROM:-0500
TZOFFSETTO:-0400
TZNAME:EDT
DTSTART:20240310T070000
END:DAYLIGHT
BEGIN:STANDARD
TZOFFSETFROM:-0400
TZOFFSETTO:-0500
TZNAME:EST
DTSTART:20241103T060000
END:STANDARD
BEGIN:DAYLIGHT
TZOFFSETFROM:-0500
TZOFFSETTO:-0400
TZNAME:EDT
DTSTART:20250309T070000
END:DAYLIGHT
BEGIN:STANDARD
TZOFFSETFROM:-0400
TZOFFSETTO:-0500
TZNAME:EST
DTSTART:20251102T060000
END:STANDARD
BEGIN:DAYLIGHT
TZOFFSETFROM:-0500
TZOFFSETTO:-0400
TZNAME:EDT
DTSTART:20260308T070000
END:DAYLIGHT
BEGIN:STANDARD
TZOFFSETFROM:-0400
TZOFFSETTO:-0500
TZNAME:EST
DTSTART:20261101T060000
END:STANDARD
END:VTIMEZONE
BEGIN:VEVENT
DTSTART;TZID=America/New_York:20250429T093000
DTEND;TZID=America/New_York:20250429T103000
DTSTAMP:20260419T183241
CREATED:20250123T164439Z
LAST-MODIFIED:20250501T183430Z
UID:10000645-1745919000-1745922600@www.ourladyofcalvary.net
SUMMARY:Lectio Divina on Zoom
DESCRIPTION:I have called you by your name….Turn to me and be safe…\nIsaiah 45:4\,22 \nIt’s time. As never before. \nIt’s time to answer that “still\, small voice within” that makes you long for One who knows you intimately\, lovingly\, knit you together in your mother’s womb\, and knew your soul…when you were being fashioned in secret. (Psalm 139) \nJoin us for an hour of Lectio Divina\, an ancient practice of reading\, listening\, and looking with the eyes and ears of the heart. \nDuring this hour\, you will: \n\nLearn one of the most widespread\, simple\, and accessible practices of Contemplative Prayer;\nDeepen your relationship with the One who Is\, becoming aware of your union with this Loving Presence and your partnership with all that is;\nJourney with others whose spiritual journeys nurture\, support\, and enrich your own.\n\nWhat others have said about this Lectio Divina group: \n“For several years I have been a member of Celeste’s original Lectio Divina Group. The incredible depth of spirituality and insight into scripture and prayer have opened a whole new religious experience for me. I hope and pray that many more people will listen to God’s voice within their hearts and open themselves to a deeply spiritual journey into Lectio Divina with Celeste’s masterful guidance.” \nNancy \n“There really are no words that can describe what this group means to me. Blessed beyond measure.\nI have been a part of this Lectio Divina group for several years and it has enriched my life! It is a gift to journey with Celeste and others\, in this enriching form of prayer. Particularly now\, with the isolation of the pandemic\, it has been a wonderful way to connect with others on the spiritual path. We welcome you to join us!” \nDonna \nAbout the facilitator: Celeste Calabotta \nCeleste Calabotta has a passionate love for and commitment to Contemplative Prayer and the contemplative life as lived in full participation in the world. A spiritual director and 12-year Lay Carmelite\, Celeste taught Confirmation for 22 years\, has been in retreat ministry at Our Lady of Calvary for ten years\, and began seriously studying contemplative prayer and facilitating groups of Lectio Divina for over 15 years. In addition to presenting numerous programs on contemplative prayer\, she has coordinated Lectio Divina prayer groups through Our Lady of Calvary in Farmington\, CT\, the Spiritual Life Center\, West Hartford\, CT\, and St. Thomas The Apostle Church in West Hartford\, CT. \nWhen you register\, you will receive an email from Jotform. The first will confirm your registration and have your Zoom invitation attached. This invitation is good for the whole series\, so please save it in a safe place on your device. Sister Mary Ann will be out of the country and will be unable to email the link in May\, so please save it! \nThis is a freewill offering program. Please use the form below to register.
URL:https://www.ourladyofcalvary.net/event/lectio-divina-on-zoom/2025-04-29/
LOCATION:Our Lady of Calvary Retreat Center\, 31 Colton Street\, Farmington\, CT\, 06032\, United States
CATEGORIES:Day/Evening Program
ATTACH;FMTTYPE=image/jpeg:https://www.ourladyofcalvary.net/wp-content/uploads/2021/07/Lectio-Divina.jpg
GEO:41.716766;-72.82871
X-APPLE-STRUCTURED-LOCATION;VALUE=URI;X-ADDRESS=Our Lady of Calvary Retreat Center 31 Colton Street Farmington CT 06032 United States;X-APPLE-RADIUS=500;X-TITLE=31 Colton Street:geo:-72.82871,41.716766
END:VEVENT
END:VCALENDAR