BEGIN:VCALENDAR
VERSION:2.0
PRODID:-//Our Lady of Calvary Retreat - ECPv6.15.14//NONSGML v1.0//EN
CALSCALE:GREGORIAN
METHOD:PUBLISH
X-ORIGINAL-URL:https://www.ourladyofcalvary.net
X-WR-CALDESC:Events for Our Lady of Calvary Retreat
REFRESH-INTERVAL;VALUE=DURATION:PT1H
X-Robots-Tag:noindex
X-PUBLISHED-TTL:PT1H
BEGIN:VTIMEZONE
TZID:America/New_York
BEGIN:DAYLIGHT
TZOFFSETFROM:-0500
TZOFFSETTO:-0400
TZNAME:EDT
DTSTART:20240310T070000
END:DAYLIGHT
BEGIN:STANDARD
TZOFFSETFROM:-0400
TZOFFSETTO:-0500
TZNAME:EST
DTSTART:20241103T060000
END:STANDARD
BEGIN:DAYLIGHT
TZOFFSETFROM:-0500
TZOFFSETTO:-0400
TZNAME:EDT
DTSTART:20250309T070000
END:DAYLIGHT
BEGIN:STANDARD
TZOFFSETFROM:-0400
TZOFFSETTO:-0500
TZNAME:EST
DTSTART:20251102T060000
END:STANDARD
BEGIN:DAYLIGHT
TZOFFSETFROM:-0500
TZOFFSETTO:-0400
TZNAME:EDT
DTSTART:20260308T070000
END:DAYLIGHT
BEGIN:STANDARD
TZOFFSETFROM:-0400
TZOFFSETTO:-0500
TZNAME:EST
DTSTART:20261101T060000
END:STANDARD
END:VTIMEZONE
BEGIN:VEVENT
DTSTART;TZID=America/New_York:20250514T100000
DTEND;TZID=America/New_York:20250514T133000
DTSTAMP:20260419T234117
CREATED:20241219T192228Z
LAST-MODIFIED:20241221T160500Z
UID:10000508-1747216800-1747229400@www.ourladyofcalvary.net
SUMMARY:Aging Gracefully: The Power of Spirituality
DESCRIPTION:We all aspire to age gracefully\, and there is an abundance of advice available on achieving this through books\, the internet\, and insights from friends and family. Much of this guidance emphasizes the importance of maintaining a healthy lifestyle\, which includes regular exercise\, a balanced diet\, sufficient sleep\, and effective stress management. Additionally\, we recognize the value of staying connected with loved ones\, embracing new learning opportunities\, adopting a positive mindset\, and accepting the natural changes that come with aging. \nLess frequently discussed is how spirituality impacts our aging process. Spirituality often provides a built-in community\, which can influence health\, happiness\, and longevity. Engaging in religious and spiritual practices seems to slow cognitive decline and equips us with better coping strategies. \nJoin Sisters Eileen Fucito\, CP\, and Kathleen Dorney\, CND\, as they explore seven spiritual tasks that we all encounter as we age: belonging\, meaning\, hope\, the sacred\, morality\, beauty\, and the acceptance of dying. They will discuss how our spirituality can help us navigate these challenges\, leading to a more graceful acceptance of the aging process. \nSister Eileen is a member of the Sisters of the Cross and Passion (Passionist Sisters). Throughout her religious life\, she has been engaged in many aspects of ministry\, including elementary school teaching and principalship\, retreat ministry\, and community leadership. \nSister Eileen answered a call to spiritual accompaniment as a retreat leader and spiritual director. She has served on the retreat team at Holy Family Retreat Center in West Hartford\, CT\, and has spent the last twenty years as retreat director and founder of Our Lady Queen of Peace Diocesan Retreat Center in Memphis\, TN. She is a retreat team member at Our Lady of Calvary in Farmington\, CT. \nSister Kathleen\, a member of the Congregation of Notre Dame\, has been conducting workshops and retreats for many years for different age groups. Her ministries have included high school teaching\, college campus ministry\, retreats\, and other volunteer work. Kathleen is an avid and curious reader. Presently\, she is retired and very interested in the aging process. \nRegister for this program using the form below or call (860) 677-8519.
URL:https://www.ourladyofcalvary.net/event/aging-gracefully-the-power-of-spirituality/
LOCATION:Our Lady of Calvary Retreat Center\, 31 Colton Street\, Farmington\, CT\, 06032\, United States
CATEGORIES:Day/Evening Program
ATTACH;FMTTYPE=image/jpeg:https://www.ourladyofcalvary.net/wp-content/uploads/2024/12/rituality-and-Aging-Gracefully-2.jpg
GEO:41.716766;-72.82871
X-APPLE-STRUCTURED-LOCATION;VALUE=URI;X-ADDRESS=Our Lady of Calvary Retreat Center 31 Colton Street Farmington CT 06032 United States;X-APPLE-RADIUS=500;X-TITLE=31 Colton Street:geo:-72.82871,41.716766
END:VEVENT
END:VCALENDAR