BEGIN:VCALENDAR
VERSION:2.0
PRODID:-//Our Lady of Calvary Retreat - ECPv6.15.14//NONSGML v1.0//EN
CALSCALE:GREGORIAN
METHOD:PUBLISH
X-ORIGINAL-URL:https://www.ourladyofcalvary.net
X-WR-CALDESC:Events for Our Lady of Calvary Retreat
REFRESH-INTERVAL;VALUE=DURATION:PT1H
X-Robots-Tag:noindex
X-PUBLISHED-TTL:PT1H
BEGIN:VTIMEZONE
TZID:America/New_York
BEGIN:DAYLIGHT
TZOFFSETFROM:-0500
TZOFFSETTO:-0400
TZNAME:EDT
DTSTART:20240310T070000
END:DAYLIGHT
BEGIN:STANDARD
TZOFFSETFROM:-0400
TZOFFSETTO:-0500
TZNAME:EST
DTSTART:20241103T060000
END:STANDARD
BEGIN:DAYLIGHT
TZOFFSETFROM:-0500
TZOFFSETTO:-0400
TZNAME:EDT
DTSTART:20250309T070000
END:DAYLIGHT
BEGIN:STANDARD
TZOFFSETFROM:-0400
TZOFFSETTO:-0500
TZNAME:EST
DTSTART:20251102T060000
END:STANDARD
BEGIN:DAYLIGHT
TZOFFSETFROM:-0500
TZOFFSETTO:-0400
TZNAME:EDT
DTSTART:20260308T070000
END:DAYLIGHT
BEGIN:STANDARD
TZOFFSETFROM:-0400
TZOFFSETTO:-0500
TZNAME:EST
DTSTART:20261101T060000
END:STANDARD
END:VTIMEZONE
BEGIN:VEVENT
DTSTART;VALUE=DATE:20250729
DTEND;VALUE=DATE:20250730
DTSTAMP:20260420T034809
CREATED:20230105T161252Z
LAST-MODIFIED:20250520T194441Z
UID:10000165-1753747200-1753833599@www.ourladyofcalvary.net
SUMMARY:Golf Tournament
DESCRIPTION:25th Annual Golf Tournament\nOLC’s Annual Golf Tournament will take place on July 29\, 2025 rain or shine\, unless canceled by Tunxis Country Club due to poor playing conditions. If there is a rain date conflict\, the player will be responsible for obtaining a replacement. \nGolf Day Package\n\n\n\nCart and Green Fees\nRange Balls\nLunch on the Course & Awards Dinner\nPlayer Gifts\n\n\n\nSchedule of Events:\n10:00 Registration and Pavillion Networking\n11:30 Shotgun Start\n5:30 Awards Dinner and Raffle \nFormat\n4-person scramble \nAwards:\n\nClosest to Pin\nLongest Drive\nPink Ball Challenge\n50/50 Contests\nHelicopter Ball Drop\n\nDON’T PLAY GOLF? Consider sponsoring this event by attending the afternoon snack shack\, dinner\, and evening festivities. A cash bar will be available at 5:30 pm\, with dinner to follow. $50 per person. \nPlease sign up for sponsorships using the form below.
URL:https://www.ourladyofcalvary.net/event/golf-tournament/
LOCATION:Tunxis Plantation Country Club\, 87 Town Farm Road\, Farmington\, CT\, 06032\, United States
CATEGORIES:Day/Evening Program
ATTACH;FMTTYPE=image/jpeg:https://www.ourladyofcalvary.net/wp-content/uploads/2021/04/1K4k-SNbyaQ5LwJ9NEI-kGw.jpeg
GEO:41.741609;-72.8285853
X-APPLE-STRUCTURED-LOCATION;VALUE=URI;X-ADDRESS=Tunxis Plantation Country Club 87 Town Farm Road Farmington CT 06032 United States;X-APPLE-RADIUS=500;X-TITLE=87 Town Farm Road:geo:-72.8285853,41.741609
END:VEVENT
END:VCALENDAR